BEGIN:VCALENDAR
VERSION:2.0
PRODID:-//SVP Luzern //NONSGML Events //EN
CALSCALE:GREGORIAN
X-WR-CALNAME:SVP Luzern
BEGIN:VEVENT
CREATED:20200929T110609Z
UID:19052
DTEND:20210129T190000
DTSTART:20210129T140000
DTSTAMP:20231024T060234Z
LOCATION:
DESCRIPTION:
SUMMARY:Parteileitung/Parteivorstand mit Sekretären
ORGANIZER:
URL;VALUE=URI:https://www.svp-lu.ch/termine/parteileitung-parteivorstand-mit-sekretaeren-10/
TRANSP:OPAQUE
END:VEVENT
END:VCALENDAR
