BEGIN:VCALENDAR
VERSION:2.0
PRODID:-//SVP Luzern //NONSGML Events //EN
CALSCALE:GREGORIAN
X-WR-CALNAME:SVP Luzern
BEGIN:VEVENT
CREATED:20200929T110609Z
UID:19053
DTEND:20210130T000000
DTSTART:20210130T000000
DTSTAMP:20231024T060222Z
LOCATION:
DESCRIPTION:
SUMMARY:ONLINE Eidg. Delegiertenversammlung
ORGANIZER:
URL;VALUE=URI:https://www.svp-lu.ch/termine/eidg-delegiertenversammlung-9/
TRANSP:OPAQUE
END:VEVENT
END:VCALENDAR
