BEGIN:VCALENDAR
VERSION:2.0
PRODID:-//SVP Luzern //NONSGML Events //EN
CALSCALE:GREGORIAN
X-WR-CALNAME:SVP Luzern
BEGIN:VEVENT
CREATED:20200929T110609Z
UID:19056
DTEND:20210204T220000
DTSTART:20210204T180000
DTSTAMP:20231024T060424Z
LOCATION:
DESCRIPTION:
SUMMARY:Grossstadtratssitzung Luzern
ORGANIZER:
URL;VALUE=URI:https://www.svp-lu.ch/termine/grossstadtratssitzung-luzern-27/
TRANSP:OPAQUE
END:VEVENT
END:VCALENDAR
