BEGIN:VCALENDAR
VERSION:2.0
PRODID:-//SVP Luzern //NONSGML Events //EN
CALSCALE:GREGORIAN
X-WR-CALNAME:SVP Luzern
BEGIN:VEVENT
CREATED:20200929T110610Z
UID:19062
DTEND:20210217T000000
DTSTART:20210217T000000
DTSTAMP:20231024T055049Z
LOCATION:
DESCRIPTION:
SUMMARY:Aschermittwoch
ORGANIZER:
URL;VALUE=URI:https://www.svp-lu.ch/termine/aschermittwoch-3/
TRANSP:OPAQUE
END:VEVENT
END:VCALENDAR
