BEGIN:VCALENDAR
VERSION:2.0
PRODID:-//SVP Luzern //NONSGML Events //EN
CALSCALE:GREGORIAN
X-WR-CALNAME:SVP Luzern
BEGIN:VEVENT
CREATED:20200929T110610Z
UID:19063
DTEND:20210220T173000
DTSTART:20210220T080000
DTSTAMP:20231024T055306Z
LOCATION:
DESCRIPTION:
SUMMARY:Abgesagt SVP-Jasscup
ORGANIZER:
URL;VALUE=URI:https://www.svp-lu.ch/termine/svp-jasscup-3/
TRANSP:OPAQUE
END:VEVENT
END:VCALENDAR
