BEGIN:VCALENDAR
VERSION:2.0
PRODID:-//SVP Luzern //NONSGML Events //EN
CALSCALE:GREGORIAN
X-WR-CALNAME:SVP Luzern
BEGIN:VEVENT
CREATED:20200929T110610Z
UID:19064
DTEND:20210226T203000
DTSTART:20210226T160000
DTSTAMP:20231024T055238Z
LOCATION:B 2000 Emmenbrücke
DESCRIPTION:
SUMMARY:GL-Sitzung 2021/02
ORGANIZER:SVP Kanton Luzern
URL;VALUE=URI:https://www.svp-lu.ch/termine/gl-sitzung-2020-02/
TRANSP:OPAQUE
END:VEVENT
END:VCALENDAR
