BEGIN:VCALENDAR
VERSION:2.0
PRODID:-//SVP Luzern //NONSGML Events //EN
CALSCALE:GREGORIAN
X-WR-CALNAME:SVP Luzern
BEGIN:VEVENT
CREATED:20200929T110610Z
UID:19068
DTEND:20210306T100000
DTSTART:20210306T080000
DTSTAMP:20231024T055831Z
LOCATION:
DESCRIPTION:
SUMMARY:Abgesagt! Frauentagung SVP Kanton Luzern
ORGANIZER:
URL;VALUE=URI:https://www.svp-lu.ch/termine/frauentagung-svp-kanton-luzern/
TRANSP:OPAQUE
END:VEVENT
END:VCALENDAR
