BEGIN:VCALENDAR
VERSION:2.0
PRODID:-//SVP Luzern //NONSGML Events //EN
CALSCALE:GREGORIAN
X-WR-CALNAME:SVP Luzern
BEGIN:VEVENT
CREATED:20200929T110610Z
UID:19070
DTEND:20210309T220000
DTSTART:20210309T180000
DTSTAMP:20231024T054912Z
LOCATION:Bern
DESCRIPTION:
SUMMARY:Treffen SVP-Bundeshausfraktion mit den kantonalen Fraktionspräsidenten
ORGANIZER:
URL;VALUE=URI:https://www.svp-lu.ch/termine/treffen-svp-bundeshausfraktion-mit-den-kantonalen-fraktionspraesidenten-3/
TRANSP:OPAQUE
END:VEVENT
END:VCALENDAR
