BEGIN:VCALENDAR
VERSION:2.0
PRODID:-//SVP Luzern //NONSGML Events //EN
CALSCALE:GREGORIAN
X-WR-CALNAME:SVP Luzern
BEGIN:VEVENT
CREATED:20200929T110610Z
UID:19071
DTEND:20210310T180000
DTSTART:20210310T140000
DTSTAMP:20231024T055706Z
LOCATION:WK Willisau
DESCRIPTION:
SUMMARY:Kant. Fraktionssitzung
ORGANIZER:WK Willisau
URL;VALUE=URI:https://www.svp-lu.ch/termine/kant-fraktionssitzung-15/
TRANSP:OPAQUE
END:VEVENT
END:VCALENDAR
