BEGIN:VCALENDAR
VERSION:2.0
PRODID:-//SVP Luzern //NONSGML Events //EN
CALSCALE:GREGORIAN
X-WR-CALNAME:SVP Luzern
BEGIN:VEVENT
CREATED:20200929T110610Z
UID:19073
DTEND:20210312T000000
DTSTART:20210312T000000
DTSTAMP:20231024T060442Z
LOCATION:
DESCRIPTION:
SUMMARY:Erscheindungsdatum SVP NEWS (März)
ORGANIZER:
URL;VALUE=URI:https://www.svp-lu.ch/termine/erscheindungsdatum-svp-news-maerz/
TRANSP:OPAQUE
END:VEVENT
END:VCALENDAR
