BEGIN:VCALENDAR
VERSION:2.0
PRODID:-//SVP Luzern //NONSGML Events //EN
CALSCALE:GREGORIAN
X-WR-CALNAME:SVP Luzern
BEGIN:VEVENT
CREATED:20200929T110611Z
UID:19075
DTEND:20210315T180000
DTSTART:20210315T140000
DTSTAMP:20231024T055755Z
LOCATION:Bern
DESCRIPTION:
SUMMARY:Treffen Bundesrichter
ORGANIZER:
URL;VALUE=URI:https://www.svp-lu.ch/termine/treffen-bundesrichter-3/
TRANSP:OPAQUE
END:VEVENT
END:VCALENDAR
