BEGIN:VCALENDAR
VERSION:2.0
PRODID:-//SVP Luzern //NONSGML Events //EN
CALSCALE:GREGORIAN
X-WR-CALNAME:SVP Luzern
BEGIN:VEVENT
CREATED:20200929T110611Z
UID:19082
DTEND:20210328T000000
DTSTART:20210328T000000
DTSTAMP:20231024T060313Z
LOCATION:
DESCRIPTION:
SUMMARY:Palmsonntag
ORGANIZER:
URL;VALUE=URI:https://www.svp-lu.ch/termine/palmsonntag-3/
TRANSP:OPAQUE
END:VEVENT
END:VCALENDAR
