BEGIN:VCALENDAR
VERSION:2.0
PRODID:-//SVP Luzern //NONSGML Events //EN
CALSCALE:GREGORIAN
X-WR-CALNAME:SVP Luzern
BEGIN:VEVENT
CREATED:20200929T110611Z
UID:19083
DTEND:20210415T000000
DTSTART:20210415T000000
DTSTAMP:20231024T055555Z
LOCATION:tbd
DESCRIPTION:Ort wird noch definiert (Coronabedingt)
SUMMARY:GL-Sitzung 2021/03
ORGANIZER:
URL;VALUE=URI:https://www.svp-lu.ch/termine/gl-sitzung-2020-03-2/
TRANSP:OPAQUE
END:VEVENT
END:VCALENDAR
