BEGIN:VCALENDAR
VERSION:2.0
PRODID:-//SVP Luzern //NONSGML Events //EN
CALSCALE:GREGORIAN
X-WR-CALNAME:SVP Luzern
BEGIN:VEVENT
CREATED:20200929T110612Z
UID:19089
DTEND:20210409T130000
DTSTART:20210409T120000
DTSTAMP:20231024T055955Z
LOCATION:
DESCRIPTION:
SUMMARY:Redaktionsschluss SVP NEWS (April)
ORGANIZER:
URL;VALUE=URI:https://www.svp-lu.ch/termine/redaktionsschluss-svp-news-april/
TRANSP:OPAQUE
END:VEVENT
END:VCALENDAR
