BEGIN:VCALENDAR
VERSION:2.0
PRODID:-//SVP Luzern //NONSGML Events //EN
CALSCALE:GREGORIAN
X-WR-CALNAME:SVP Luzern
BEGIN:VEVENT
CREATED:20200929T110612Z
UID:19090
DTEND:20210416T000000
DTSTART:20210416T000000
DTSTAMP:20231024T060348Z
LOCATION:
DESCRIPTION:
SUMMARY:Erscheinungsdatum SVP NEWS (April)
ORGANIZER:
URL;VALUE=URI:https://www.svp-lu.ch/termine/erscheinungsdatum-svp-news-april/
TRANSP:OPAQUE
END:VEVENT
END:VCALENDAR
