BEGIN:VCALENDAR
VERSION:2.0
PRODID:-//SVP Luzern //NONSGML Events //EN
CALSCALE:GREGORIAN
X-WR-CALNAME:SVP Luzern
BEGIN:VEVENT
CREATED:20200929T110612Z
UID:19091
DTEND:20210422T000000
DTSTART:20210422T000000
DTSTAMP:20231024T055654Z
LOCATION:
DESCRIPTION:Die Parolen zur  Abstimmung vom 13. Juni 2021 werden wiederum digital
SUMMARY:Abgesagt! Kant. Delegiertenversammlung
ORGANIZER:
URL;VALUE=URI:https://www.svp-lu.ch/termine/kant-delegiertenversammlung-11/
TRANSP:OPAQUE
END:VEVENT
END:VCALENDAR
