BEGIN:VCALENDAR
VERSION:2.0
PRODID:-//SVP Luzern //NONSGML Events //EN
CALSCALE:GREGORIAN
X-WR-CALNAME:SVP Luzern
BEGIN:VEVENT
CREATED:20200929T110612Z
UID:19095
DTEND:20210505T000000
DTSTART:20210503T000000
DTSTAMP:20231024T060331Z
LOCATION:Bern
DESCRIPTION:Geschäfte der Sondersession &nbsp;
SUMMARY:Sondersession National- und Ständerat
ORGANIZER:
URL;VALUE=URI:https://www.svp-lu.ch/termine/evt-sondersession-national-und-staenderat-3/
TRANSP:OPAQUE
END:VEVENT
END:VCALENDAR
