BEGIN:VCALENDAR
VERSION:2.0
PRODID:-//SVP Luzern //NONSGML Events //EN
CALSCALE:GREGORIAN
X-WR-CALNAME:SVP Luzern
BEGIN:VEVENT
CREATED:20200929T110612Z
UID:19097
DTEND:20210507T000000
DTSTART:20210507T000000
DTSTAMP:20231024T060334Z
LOCATION:WK WIllsau
DESCRIPTION:mit Vorstand/OPVorstand WK Willisau
SUMMARY:GL-Sitzung 2021/04
ORGANIZER:WK Willisau
URL;VALUE=URI:https://www.svp-lu.ch/termine/gl-sitzung-2020-04-3/
TRANSP:OPAQUE
END:VEVENT
END:VCALENDAR
