BEGIN:VCALENDAR
VERSION:2.0
PRODID:-//SVP Luzern //NONSGML Events //EN
CALSCALE:GREGORIAN
X-WR-CALNAME:SVP Luzern
BEGIN:VEVENT
CREATED:20200929T110612Z
UID:19099
DTEND:20210508T120000
DTSTART:20210508T080000
DTSTAMP:20231024T060108Z
LOCATION:Zürich
DESCRIPTION:
SUMMARY:Konferenz der SVP Schweiz mit den SVP-Regierungsräten
ORGANIZER:
URL;VALUE=URI:https://www.svp-lu.ch/termine/konferenz-der-svp-schweiz-mit-den-svp-regierungsraeten-3/
TRANSP:OPAQUE
END:VEVENT
END:VCALENDAR
