BEGIN:VCALENDAR
VERSION:2.0
PRODID:-//SVP Luzern //NONSGML Events //EN
CALSCALE:GREGORIAN
X-WR-CALNAME:SVP Luzern
BEGIN:VEVENT
CREATED:20200929T110612Z
UID:19101
DTEND:20210511T000000
DTSTART:20210510T000000
DTSTAMP:20231024T054948Z
LOCATION:Luzern
DESCRIPTION:
SUMMARY:Session Kantonsrat
ORGANIZER:
URL;VALUE=URI:https://www.svp-lu.ch/termine/session-kantonsrat-23/
TRANSP:OPAQUE
END:VEVENT
END:VCALENDAR
