BEGIN:VCALENDAR
VERSION:2.0
PRODID:-//SVP Luzern //NONSGML Events //EN
CALSCALE:GREGORIAN
X-WR-CALNAME:SVP Luzern
BEGIN:VEVENT
CREATED:20200929T110612Z
UID:19106
DTEND:20210523T000000
DTSTART:20210523T000000
DTSTAMP:20231024T055546Z
LOCATION:
DESCRIPTION:
SUMMARY:Pfingsten
ORGANIZER:
URL;VALUE=URI:https://www.svp-lu.ch/termine/pfingsten-3/
TRANSP:OPAQUE
END:VEVENT
END:VCALENDAR
