BEGIN:VCALENDAR
VERSION:2.0
PRODID:-//SVP Luzern //NONSGML Events //EN
CALSCALE:GREGORIAN
X-WR-CALNAME:SVP Luzern
BEGIN:VEVENT
CREATED:20200929T110613Z
UID:19111
DTEND:20210603T000000
DTSTART:20210603T000000
DTSTAMP:20231024T060429Z
LOCATION:
DESCRIPTION:
SUMMARY:Fronleichnam
ORGANIZER:
URL;VALUE=URI:https://www.svp-lu.ch/termine/fronleichnam-3/
TRANSP:OPAQUE
END:VEVENT
END:VCALENDAR
