BEGIN:VCALENDAR
VERSION:2.0
PRODID:-//SVP Luzern //NONSGML Events //EN
CALSCALE:GREGORIAN
X-WR-CALNAME:SVP Luzern
BEGIN:VEVENT
CREATED:20200929T110613Z
UID:19114
DTEND:20210610T220000
DTSTART:20210610T180000
DTSTAMP:20231024T055331Z
LOCATION:
DESCRIPTION:
SUMMARY:Grossstadtratssitzung Luzern
ORGANIZER:
URL;VALUE=URI:https://www.svp-lu.ch/termine/grossstadtratssitzung-luzern-32/
TRANSP:OPAQUE
END:VEVENT
END:VCALENDAR
