BEGIN:VCALENDAR
VERSION:2.0
PRODID:-//SVP Luzern //NONSGML Events //EN
CALSCALE:GREGORIAN
X-WR-CALNAME:SVP Luzern
BEGIN:VEVENT
CREATED:20200929T110613Z
UID:19115
DTEND:20210611T000000
DTSTART:20210611T000000
DTSTAMP:20231024T055415Z
LOCATION:
DESCRIPTION:
SUMMARY:Erscheinungsdatum SVP NEWS (Juni)
ORGANIZER:
URL;VALUE=URI:https://www.svp-lu.ch/termine/erscheinungsdatum-svp-news-juni/
TRANSP:OPAQUE
END:VEVENT
END:VCALENDAR
