BEGIN:VCALENDAR
VERSION:2.0
PRODID:-//SVP Luzern //NONSGML Events //EN
CALSCALE:GREGORIAN
X-WR-CALNAME:SVP Luzern
BEGIN:VEVENT
CREATED:20200929T110613Z
UID:19117
DTEND:20210613T000000
DTSTART:20210613T000000
DTSTAMP:20231024T055500Z
LOCATION:
DESCRIPTION:
SUMMARY:Eidg. und Kant. Abstimmungen
ORGANIZER:
URL;VALUE=URI:https://www.svp-lu.ch/termine/eidg-und-kant-abstimmungen-9/
TRANSP:OPAQUE
END:VEVENT
END:VCALENDAR
