BEGIN:VCALENDAR
VERSION:2.0
PRODID:-//SVP Luzern //NONSGML Events //EN
CALSCALE:GREGORIAN
X-WR-CALNAME:SVP Luzern
BEGIN:VEVENT
CREATED:20200929T110613Z
UID:19118
DTEND:20210616T180000
DTSTART:20210616T140000
DTSTAMP:20231024T055950Z
LOCATION:ZSA Sempach
DESCRIPTION:
SUMMARY:Kant. Fraktionssitzung
ORGANIZER:WK Sursee
URL;VALUE=URI:https://www.svp-lu.ch/termine/kant-fraktionssitzung-17/
TRANSP:OPAQUE
END:VEVENT
END:VCALENDAR
