BEGIN:VCALENDAR
VERSION:2.0
PRODID:-//SVP Luzern //NONSGML Events //EN
CALSCALE:GREGORIAN
X-WR-CALNAME:SVP Luzern
BEGIN:VEVENT
CREATED:20200929T110613Z
UID:19119
DTEND:20210617T220000
DTSTART:20210617T200000
DTSTAMP:20231024T055641Z
LOCATION:WK Willisau
DESCRIPTION:Unsere Generalversammlung wurde aufgrund der momentanen Versammlungs-B
SUMMARY:Verschoben! Kant. Generalversammlung
ORGANIZER:WK Willisau
URL;VALUE=URI:https://www.svp-lu.ch/termine/kant-generalversammlung-3/
TRANSP:OPAQUE
END:VEVENT
END:VCALENDAR
