BEGIN:VCALENDAR
VERSION:2.0
PRODID:-//SVP Luzern //NONSGML Events //EN
CALSCALE:GREGORIAN
X-WR-CALNAME:SVP Luzern
BEGIN:VEVENT
CREATED:20200929T110613Z
UID:19121
DTEND:T220000
DTSTART:T190000
DTSTAMP:20231024T062043Z
LOCATION:WK Sursee
DESCRIPTION:
SUMMARY:Verschoben &#8211\; Präsidentenfeier Kantonsrat Luzern
ORGANIZER:WK Sursee
URL;VALUE=URI:https://www.svp-lu.ch/termine/praesidentenfeier-kantonsrat-luzern-3/
TRANSP:OPAQUE
END:VEVENT
END:VCALENDAR
