BEGIN:VCALENDAR
VERSION:2.0
PRODID:-//SVP Luzern //NONSGML Events //EN
CALSCALE:GREGORIAN
X-WR-CALNAME:SVP Luzern
BEGIN:VEVENT
CREATED:20200929T110614Z
UID:19125
DTEND:20210709T000000
DTSTART:20210709T000000
DTSTAMP:20231024T055627Z
LOCATION:
DESCRIPTION:
SUMMARY:GL-Sitzung 2021/06
ORGANIZER:
URL;VALUE=URI:https://www.svp-lu.ch/termine/gl-sitzung-2020-06-3/
TRANSP:OPAQUE
END:VEVENT
END:VCALENDAR
