BEGIN:VCALENDAR
VERSION:2.0
PRODID:-//SVP Luzern //NONSGML Events //EN
CALSCALE:GREGORIAN
X-WR-CALNAME:SVP Luzern
BEGIN:VEVENT
CREATED:20200929T110614Z
UID:19126
DTEND:20210709T130000
DTSTART:20210709T120000
DTSTAMP:20231024T060034Z
LOCATION:
DESCRIPTION:
SUMMARY:Redaktionsschluss SVP NEWS (Juli)
ORGANIZER:
URL;VALUE=URI:https://www.svp-lu.ch/termine/redaktionsschluss-svp-news-juli/
TRANSP:OPAQUE
END:VEVENT
END:VCALENDAR
