BEGIN:VCALENDAR
VERSION:2.0
PRODID:-//SVP Luzern //NONSGML Events //EN
CALSCALE:GREGORIAN
X-WR-CALNAME:SVP Luzern
BEGIN:VEVENT
CREATED:20200929T110614Z
UID:19133
DTEND:20210812T220000
DTSTART:20210812T193000
DTSTAMP:20231024T055535Z
LOCATION:Zoom-Meeting
DESCRIPTION:
SUMMARY:Sitzung Parteileitung 2021/03
ORGANIZER:
URL;VALUE=URI:https://www.svp-lu.ch/termine/sitzung-parteileitung-2021-03/
TRANSP:OPAQUE
END:VEVENT
END:VCALENDAR
