BEGIN:VCALENDAR
VERSION:2.0
PRODID:-//SVP Luzern //NONSGML Events //EN
CALSCALE:GREGORIAN
X-WR-CALNAME:SVP Luzern
BEGIN:VEVENT
CREATED:20200929T110614Z
UID:19134
DTEND:20210822T000000
DTSTART:20210820T000000
DTSTAMP:20231024T060445Z
LOCATION:Zürich
DESCRIPTION:
SUMMARY:Auslandschweizer-Kongress
ORGANIZER:
URL;VALUE=URI:https://www.svp-lu.ch/termine/auslandschweizer-kongress-3/
TRANSP:OPAQUE
END:VEVENT
END:VCALENDAR
