BEGIN:VCALENDAR
VERSION:2.0
PRODID:-//SVP Luzern //NONSGML Events //EN
CALSCALE:GREGORIAN
X-WR-CALNAME:SVP Luzern
BEGIN:VEVENT
CREATED:20200929T110614Z
UID:19135
DTEND:20210820T000000
DTSTART:20210820T000000
DTSTAMP:20231024T054906Z
LOCATION:
DESCRIPTION:
SUMMARY:Generalversammlung SVP international
ORGANIZER:
URL;VALUE=URI:https://www.svp-lu.ch/termine/generalversammlung-svp-international/
TRANSP:OPAQUE
END:VEVENT
END:VCALENDAR
