BEGIN:VCALENDAR
VERSION:2.0
PRODID:-//SVP Luzern //NONSGML Events //EN
CALSCALE:GREGORIAN
X-WR-CALNAME:SVP Luzern
BEGIN:VEVENT
CREATED:20200929T110614Z
UID:19136
DTEND:20210820T140000
DTSTART:20210820T130000
DTSTAMP:20231024T054928Z
LOCATION:
DESCRIPTION:
SUMMARY:Parteileitung SVP CH
ORGANIZER:
URL;VALUE=URI:https://www.svp-lu.ch/termine/parteileitung-svp-ch-8/
TRANSP:OPAQUE
END:VEVENT
END:VCALENDAR
