BEGIN:VCALENDAR
VERSION:2.0
PRODID:-//SVP Luzern //NONSGML Events //EN
CALSCALE:GREGORIAN
X-WR-CALNAME:SVP Luzern
BEGIN:VEVENT
CREATED:20200929T110614Z
UID:19139
DTEND:20210904T130000
DTSTART:20210904T110000
DTSTAMP:20231024T055113Z
LOCATION:Gemeindezentrum Schenkon
DESCRIPTION:
SUMMARY:Kant. Delegiertenversammlung
ORGANIZER:SVP Schenkon
URL;VALUE=URI:https://www.svp-lu.ch/termine/kant-delegiertenversammlung-12/
TRANSP:OPAQUE
END:VEVENT
END:VCALENDAR
