BEGIN:VCALENDAR
VERSION:2.0
PRODID:-//SVP Luzern //NONSGML Events //EN
CALSCALE:GREGORIAN
X-WR-CALNAME:SVP Luzern
BEGIN:VEVENT
CREATED:20200929T110615Z
UID:19142
DTEND:20210908T180000
DTSTART:20210908T140000
DTSTAMP:20231024T055619Z
LOCATION:WK Sursee
DESCRIPTION:
SUMMARY:Kant. Fraktionssitzung
ORGANIZER:WK Sursee
URL;VALUE=URI:https://www.svp-lu.ch/termine/kant-fraktionssitzung-18/
TRANSP:OPAQUE
END:VEVENT
END:VCALENDAR
