BEGIN:VCALENDAR
VERSION:2.0
PRODID:-//SVP Luzern //NONSGML Events //EN
CALSCALE:GREGORIAN
X-WR-CALNAME:SVP Luzern
BEGIN:VEVENT
CREATED:20200929T110615Z
UID:19143
DTEND:20210910T223000
DTSTART:20210910T183000
DTSTAMP:20231024T055001Z
LOCATION:Sempach
DESCRIPTION:ab 18:30 (Apéro)  Beginn Anlass  19:30 Uhr Ausführung je nach COVI
SUMMARY:Sempachertag (Traditioneller Parteianlass)
ORGANIZER:WK Sursee
URL;VALUE=URI:https://www.svp-lu.ch/termine/sempachertag-traditioneller-parteianlass-3/
TRANSP:OPAQUE
END:VEVENT
END:VCALENDAR
