BEGIN:VCALENDAR
VERSION:2.0
PRODID:-//SVP Luzern //NONSGML Events //EN
CALSCALE:GREGORIAN
X-WR-CALNAME:SVP Luzern
BEGIN:VEVENT
CREATED:20200929T110615Z
UID:19145
DTEND:20211001T000000
DTSTART:20210913T000000
DTSTAMP:20231024T055021Z
LOCATION:Bern
DESCRIPTION:
SUMMARY:Session National- und Ständerat
ORGANIZER:
URL;VALUE=URI:https://www.svp-lu.ch/termine/session-national-und-staenderat-12/
TRANSP:OPAQUE
END:VEVENT
END:VCALENDAR
