BEGIN:VCALENDAR
VERSION:2.0
PRODID:-//SVP Luzern //NONSGML Events //EN
CALSCALE:GREGORIAN
X-WR-CALNAME:SVP Luzern
BEGIN:VEVENT
CREATED:20200929T110615Z
UID:19146
DTEND:20210914T220000
DTSTART:20210914T180000
DTSTAMP:20231024T055013Z
LOCATION:Gemeindezentrum Schenkon
DESCRIPTION:Feier von Kantonsratspräsident Rolf Bossart
SUMMARY:Feier &#8220\;Höchster Luzerner&#8221\;
ORGANIZER:Gemeinde Schenkon
URL;VALUE=URI:https://www.svp-lu.ch/termine/fraktionsausflug-svp-kanton-luzern-3/
TRANSP:OPAQUE
END:VEVENT
END:VCALENDAR
