BEGIN:VCALENDAR
VERSION:2.0
PRODID:-//SVP Luzern //NONSGML Events //EN
CALSCALE:GREGORIAN
X-WR-CALNAME:SVP Luzern
BEGIN:VEVENT
CREATED:20200929T110615Z
UID:19147
DTEND:20210906T220000
DTSTART:20210906T190000
DTSTAMP:20231024T060112Z
LOCATION:Zellfeld\, Schenkon
DESCRIPTION:
SUMMARY:GL-Sitzung 2021/07
ORGANIZER:
URL;VALUE=URI:https://www.svp-lu.ch/termine/gl-sitzung-2020-07/
TRANSP:OPAQUE
END:VEVENT
END:VCALENDAR
