BEGIN:VCALENDAR
VERSION:2.0
PRODID:-//SVP Luzern //NONSGML Events //EN
CALSCALE:GREGORIAN
X-WR-CALNAME:SVP Luzern
BEGIN:VEVENT
CREATED:20200929T110615Z
UID:19148
DTEND:20210919T000000
DTSTART:20210919T000000
DTSTAMP:20231024T055536Z
LOCATION:
DESCRIPTION:
SUMMARY:Eidg. Buss- und Bettag
ORGANIZER:
URL;VALUE=URI:https://www.svp-lu.ch/termine/eidg-buss-und-bettag-3/
TRANSP:OPAQUE
END:VEVENT
END:VCALENDAR
