BEGIN:VCALENDAR
VERSION:2.0
PRODID:-//SVP Luzern //NONSGML Events //EN
CALSCALE:GREGORIAN
X-WR-CALNAME:SVP Luzern
BEGIN:VEVENT
CREATED:20200929T110616Z
UID:19155
DTEND:20211020T180000
DTSTART:20211020T140000
DTSTAMP:20231024T055747Z
LOCATION:ZSA Sempach
DESCRIPTION:
SUMMARY:Kant. Fraktionssitzung
ORGANIZER:SVP Kanton Luzern
URL;VALUE=URI:https://www.svp-lu.ch/termine/kant-fraktionssitzung-19/
TRANSP:OPAQUE
END:VEVENT
END:VCALENDAR
