BEGIN:VCALENDAR
VERSION:2.0
PRODID:-//SVP Luzern //NONSGML Events //EN
CALSCALE:GREGORIAN
X-WR-CALNAME:SVP Luzern
BEGIN:VEVENT
CREATED:20200929T110616Z
UID:19156
DTEND:20211021T000000
DTSTART:20211021T000000
DTSTAMP:20231024T060254Z
LOCATION:
DESCRIPTION:Die OPP-Konferenz wird verschoben. Die Ortsparteien werden direkt info
SUMMARY:Verschoben!   Ortsparteipräsidentenkonferenz
ORGANIZER:
URL;VALUE=URI:https://www.svp-lu.ch/termine/ortsparteipraesidentenkonferenz-inkl-parteileitung-2/
TRANSP:OPAQUE
END:VEVENT
END:VCALENDAR
