BEGIN:VCALENDAR
VERSION:2.0
PRODID:-//SVP Luzern //NONSGML Events //EN
CALSCALE:GREGORIAN
X-WR-CALNAME:SVP Luzern
BEGIN:VEVENT
CREATED:20200929T110616Z
UID:19163
DTEND:20211023T000000
DTSTART:20211023T000000
DTSTAMP:20231024T055350Z
LOCATION:Montricher Kanton Waadt
DESCRIPTION:
SUMMARY:Eidg. Delegiertenversammlung
ORGANIZER:
URL;VALUE=URI:https://www.svp-lu.ch/termine/eidg-delegiertenversammlung-12/
TRANSP:OPAQUE
END:VEVENT
END:VCALENDAR
