BEGIN:VCALENDAR
VERSION:2.0
PRODID:-//SVP Luzern //NONSGML Events //EN
CALSCALE:GREGORIAN
X-WR-CALNAME:SVP Luzern
BEGIN:VEVENT
CREATED:20200929T110616Z
UID:19165
DTEND:20211101T000000
DTSTART:20211101T000000
DTSTAMP:20231024T060000Z
LOCATION:
DESCRIPTION:
SUMMARY:Allerheiligen
ORGANIZER:
URL;VALUE=URI:https://www.svp-lu.ch/termine/allerheiligen-3/
TRANSP:OPAQUE
END:VEVENT
END:VCALENDAR
