BEGIN:VCALENDAR
VERSION:2.0
PRODID:-//SVP Luzern //NONSGML Events //EN
CALSCALE:GREGORIAN
X-WR-CALNAME:SVP Luzern
BEGIN:VEVENT
CREATED:20200929T110616Z
UID:19166
DTEND:20211102T000000
DTSTART:20211102T000000
DTSTAMP:20231024T054947Z
LOCATION:Luzern
DESCRIPTION:
SUMMARY:Session Kantonsrat
ORGANIZER:
URL;VALUE=URI:https://www.svp-lu.ch/termine/session-kantonsrat-28/
TRANSP:OPAQUE
END:VEVENT
END:VCALENDAR
