BEGIN:VCALENDAR
VERSION:2.0
PRODID:-//SVP Luzern //NONSGML Events //EN
CALSCALE:GREGORIAN
X-WR-CALNAME:SVP Luzern
BEGIN:VEVENT
CREATED:20200929T110616Z
UID:19168
DTEND:20211104T220000
DTSTART:20211104T200000
DTSTAMP:20231024T055542Z
LOCATION:Hotel Sonne\, 6260 Reiden
DESCRIPTION:Es wird ein Gratis-Test (Dauer 20 Min.) angeboten, bitte Anmeldeformul
SUMMARY:Kant. Delegiertenversammlung
ORGANIZER:WK Willisau
URL;VALUE=URI:https://www.svp-lu.ch/termine/kant-delegiertenversammlung-13/
TRANSP:OPAQUE
END:VEVENT
END:VCALENDAR
