BEGIN:VCALENDAR
VERSION:2.0
PRODID:-//SVP Luzern //NONSGML Events //EN
CALSCALE:GREGORIAN
X-WR-CALNAME:SVP Luzern
BEGIN:VEVENT
CREATED:20200929T110616Z
UID:19170
DTEND:20211119T170000
DTSTART:20211119T163000
DTSTAMP:20231024T055204Z
LOCATION:B2000. Emmenbrücke
DESCRIPTION:
SUMMARY:GL-Sitzung 2021/09
ORGANIZER:
URL;VALUE=URI:https://www.svp-lu.ch/termine/gl-sitzung-2020-09-2/
TRANSP:OPAQUE
END:VEVENT
END:VCALENDAR
