BEGIN:VCALENDAR
VERSION:2.0
PRODID:-//SVP Luzern //NONSGML Events //EN
CALSCALE:GREGORIAN
X-WR-CALNAME:SVP Luzern
BEGIN:VEVENT
CREATED:20200929T110616Z
UID:19171
DTEND:20211125T210000
DTSTART:20211125T160000
DTSTAMP:20231024T060140Z
LOCATION:Aula SH Zentrum
DESCRIPTION:
SUMMARY:Einwohnerratssitzung Horw
ORGANIZER:
URL;VALUE=URI:https://www.svp-lu.ch/termine/einwohnerratssitzung-horw-17/
TRANSP:OPAQUE
END:VEVENT
END:VCALENDAR
