BEGIN:VCALENDAR
VERSION:2.0
PRODID:-//SVP Luzern //NONSGML Events //EN
CALSCALE:GREGORIAN
X-WR-CALNAME:SVP Luzern
BEGIN:VEVENT
CREATED:20200929T110617Z
UID:19174
DTEND:20211217T000000
DTSTART:20211129T000000
DTSTAMP:20231024T060111Z
LOCATION:Bern
DESCRIPTION:
SUMMARY:Session National- und Ständerat
ORGANIZER:
URL;VALUE=URI:https://www.svp-lu.ch/termine/session-national-und-staenderat-13/
TRANSP:OPAQUE
END:VEVENT
END:VCALENDAR
